BEGIN:VCALENDAR
VERSION:2.0
PRODID:-//Montelle Winery | Augusta&#039;s Most Scenic Winery | Augusta, MO - ECPv6.15.20//NONSGML v1.0//EN
CALSCALE:GREGORIAN
METHOD:PUBLISH
X-WR-CALNAME:Montelle Winery | Augusta&#039;s Most Scenic Winery | Augusta, MO
X-ORIGINAL-URL:https://montelle.com
X-WR-CALDESC:Events for Montelle Winery | Augusta&#039;s Most Scenic Winery | Augusta, MO
REFRESH-INTERVAL;VALUE=DURATION:PT1H
X-Robots-Tag:noindex
X-PUBLISHED-TTL:PT1H
BEGIN:VTIMEZONE
TZID:America/Chicago
BEGIN:DAYLIGHT
TZOFFSETFROM:-0600
TZOFFSETTO:-0500
TZNAME:CDT
DTSTART:20250309T080000
END:DAYLIGHT
BEGIN:STANDARD
TZOFFSETFROM:-0500
TZOFFSETTO:-0600
TZNAME:CST
DTSTART:20251102T070000
END:STANDARD
BEGIN:DAYLIGHT
TZOFFSETFROM:-0600
TZOFFSETTO:-0500
TZNAME:CDT
DTSTART:20260308T080000
END:DAYLIGHT
BEGIN:STANDARD
TZOFFSETFROM:-0500
TZOFFSETTO:-0600
TZNAME:CST
DTSTART:20261101T070000
END:STANDARD
BEGIN:DAYLIGHT
TZOFFSETFROM:-0600
TZOFFSETTO:-0500
TZNAME:CDT
DTSTART:20270314T080000
END:DAYLIGHT
BEGIN:STANDARD
TZOFFSETFROM:-0500
TZOFFSETTO:-0600
TZNAME:CST
DTSTART:20271107T070000
END:STANDARD
END:VTIMEZONE
BEGIN:VEVENT
DTSTART;TZID=America/Chicago:20260418T130000
DTEND;TZID=America/Chicago:20260418T160000
DTSTAMP:20260422T104244
CREATED:20260311T170717Z
LAST-MODIFIED:20260311T170717Z
UID:876-1776517200-1776528000@montelle.com
SUMMARY:Live Music: Anita Rosamond
DESCRIPTION: Live Music at Montelle Winery \n\nJoin us Saturday\, April 18th from 1–4 PM as the talented Anita Rosamond takes the stage. This renowned St. Louis–based vocalist and pianist has performed at celebrated venues and events including The Pageant\, The Sheldon Concert Hall\, Whitaker Music Festival\, and the St. Louis Art Fair.\nWith her incredible voice\, musical talent\, and captivating stage presence\, Anita brings an unforgettable performance wherever she plays. Grab a glass of wine\, relax on the hill\, and enjoy an afternoon of live music at Montelle. 
URL:https://montelle.com/live-entertainment/live-music-anita-rosamond/
LOCATION:Montelle Winery
END:VEVENT
END:VCALENDAR