BEGIN:VCALENDAR
VERSION:2.0
PRODID:-//Montelle Winery | Augusta&#039;s Most Scenic Winery | Augusta, MO - ECPv6.15.20//NONSGML v1.0//EN
CALSCALE:GREGORIAN
METHOD:PUBLISH
X-WR-CALNAME:Montelle Winery | Augusta&#039;s Most Scenic Winery | Augusta, MO
X-ORIGINAL-URL:https://montelle.com
X-WR-CALDESC:Events for Montelle Winery | Augusta&#039;s Most Scenic Winery | Augusta, MO
REFRESH-INTERVAL;VALUE=DURATION:PT1H
X-Robots-Tag:noindex
X-PUBLISHED-TTL:PT1H
BEGIN:VTIMEZONE
TZID:America/Chicago
BEGIN:DAYLIGHT
TZOFFSETFROM:-0600
TZOFFSETTO:-0500
TZNAME:CDT
DTSTART:20250309T080000
END:DAYLIGHT
BEGIN:STANDARD
TZOFFSETFROM:-0500
TZOFFSETTO:-0600
TZNAME:CST
DTSTART:20251102T070000
END:STANDARD
BEGIN:DAYLIGHT
TZOFFSETFROM:-0600
TZOFFSETTO:-0500
TZNAME:CDT
DTSTART:20260308T080000
END:DAYLIGHT
BEGIN:STANDARD
TZOFFSETFROM:-0500
TZOFFSETTO:-0600
TZNAME:CST
DTSTART:20261101T070000
END:STANDARD
BEGIN:DAYLIGHT
TZOFFSETFROM:-0600
TZOFFSETTO:-0500
TZNAME:CDT
DTSTART:20270314T080000
END:DAYLIGHT
BEGIN:STANDARD
TZOFFSETFROM:-0500
TZOFFSETTO:-0600
TZNAME:CST
DTSTART:20271107T070000
END:STANDARD
END:VTIMEZONE
BEGIN:VEVENT
DTSTART;TZID=America/Chicago:20260510T110000
DTEND;TZID=America/Chicago:20260510T130000
DTSTAMP:20260422T120934
CREATED:20260406T192223Z
LAST-MODIFIED:20260407T170752Z
UID:1039-1778410800-1778418000@montelle.com
SUMMARY:Mother's Day Brunch
DESCRIPTION:💐 Mother’s Day Brunch in Augusta Wine Country 💐 \nCelebrate Mom the way she deserves—with great food\, wine\, and time together 🍷✨ \nJoin us on May 10th with seatings at 11AM & 1PM for a special brunch curated by our culinary team\, featuring all the brunch favorites plus delicious in-house specialties that pair perfectly with our award-winning wines. \n🥞 Menu Highlights:Biscuits & Gravy • Bacon • Sausage • Carved HamFrench Toast Casserole • Scrambled EggsMac & Cheese • Party Potato Casserole • Green BeansPasta Salad • House Salad • Yogurt ParfaitMuffins • Donuts • Cereal for kids & more \n🥂 A little extra love for Mom:All Moms & Grandmas receive their first mimosa FREE! \nAdditional mimosas\, Berry Berry Sangria\, and our wines will be available for purchase 🍓🍾 \n✨ Make it a day she won’t forget—gather your favorite people and celebrate at Montelle Winery! \nSave your timeslot here— \nGet Tickets Here
URL:https://montelle.com/live-entertainment/mothers-day-brunch-4/
LOCATION:Montelle Winery
ATTACH;FMTTYPE=image/png:https://montelle.com/wp-content/uploads/2025/11/Mothers-Day-Brunch-Montelle-POST-5.png
END:VEVENT
END:VCALENDAR