BEGIN:VCALENDAR
VERSION:2.0
PRODID:-//Montelle Winery | Augusta&#039;s Most Scenic Winery | Augusta, MO - ECPv6.15.20//NONSGML v1.0//EN
CALSCALE:GREGORIAN
METHOD:PUBLISH
X-WR-CALNAME:Montelle Winery | Augusta&#039;s Most Scenic Winery | Augusta, MO
X-ORIGINAL-URL:https://montelle.com
X-WR-CALDESC:Events for Montelle Winery | Augusta&#039;s Most Scenic Winery | Augusta, MO
REFRESH-INTERVAL;VALUE=DURATION:PT1H
X-Robots-Tag:noindex
X-PUBLISHED-TTL:PT1H
BEGIN:VTIMEZONE
TZID:America/Chicago
BEGIN:DAYLIGHT
TZOFFSETFROM:-0600
TZOFFSETTO:-0500
TZNAME:CDT
DTSTART:20240310T080000
END:DAYLIGHT
BEGIN:STANDARD
TZOFFSETFROM:-0500
TZOFFSETTO:-0600
TZNAME:CST
DTSTART:20241103T070000
END:STANDARD
BEGIN:DAYLIGHT
TZOFFSETFROM:-0600
TZOFFSETTO:-0500
TZNAME:CDT
DTSTART:20250309T080000
END:DAYLIGHT
BEGIN:STANDARD
TZOFFSETFROM:-0500
TZOFFSETTO:-0600
TZNAME:CST
DTSTART:20251102T070000
END:STANDARD
BEGIN:DAYLIGHT
TZOFFSETFROM:-0600
TZOFFSETTO:-0500
TZNAME:CDT
DTSTART:20260308T080000
END:DAYLIGHT
BEGIN:STANDARD
TZOFFSETFROM:-0500
TZOFFSETTO:-0600
TZNAME:CST
DTSTART:20261101T070000
END:STANDARD
END:VTIMEZONE
BEGIN:VEVENT
DTSTART;TZID=America/Chicago:20250503T110000
DTEND;TZID=America/Chicago:20250503T170000
DTSTAMP:20260422T114814
CREATED:20250429T205615Z
LAST-MODIFIED:20250429T205615Z
UID:521-1746270000-1746291600@montelle.com
SUMMARY:Kentucky Derby Trolley Trail
DESCRIPTION:The Kentucky Derby Trolley Trail is almost here!\nGet your All Inclusive day pass NOW to Derby Day!!\n\n\n\nHave you picked out your hat for the Hat Parade at Montelle Winery? Or your dapper threads for the Best Dressed Contest at Balducci Vineyards?\n\n\nFrom Derby Trivia to live music\, there’s something for everyone. Gather your friends for a super fun day out in Augusta Wine Country!\n\n Contests Galore: Fabulous prizes await winners at each winery.\n\n\n\n\n Savor our unique food and drink specials. Discover your new favorite cocktail as you enjoy the festivities.\n\n\n\n Don’t forget to capture the memories at our themed photo booths and tag us in your photos!\n\n\n\nVIP – All inclusive\nhttps://checkout.square.site/buy/D547TORNMQRKI5YFORRPLGNH\n\nAll Winery Kentucky Derby Events\nhttps://checkout.square.site/buy/ORTNQJCZLBHGKGISX3H4ERSI\n\nTrolley Pass Only\nhttps://checkout.square.site/buy/JZEMC6BSDQ4NEPIJ7AZBXPPX\n\nMount Pleasant Horse Race Only\nhttps://checkout.square.site/buy/F5WP5F5RQKFDRIOBCSBGZMEO
URL:https://montelle.com/live-entertainment/kentucky-derby-trolley-trail/
LOCATION:Montelle Winery
ATTACH;FMTTYPE=image/jpeg:https://montelle.com/wp-content/uploads/2025/04/IMG_0125.jpeg
END:VEVENT
BEGIN:VEVENT
DTSTART;TZID=America/Chicago:20250503T130000
DTEND;TZID=America/Chicago:20250503T160000
DTSTAMP:20260422T114814
CREATED:20250411T001845Z
LAST-MODIFIED:20250411T001845Z
UID:499-1746277200-1746288000@montelle.com
SUMMARY:♫ David Green Group
DESCRIPTION:Live Music with David Green from 1pm-4pm
URL:https://montelle.com/live-entertainment/%e2%99%ab-david-green-group/
LOCATION:Montelle Winery
ATTACH;FMTTYPE=image/jpeg:https://montelle.com/wp-content/uploads/2024/04/david-green.jpg
END:VEVENT
BEGIN:VEVENT
DTSTART;TZID=America/Chicago:20250504T130000
DTEND;TZID=America/Chicago:20250504T160000
DTSTAMP:20260422T114814
CREATED:20250429T202553Z
LAST-MODIFIED:20250429T202553Z
UID:520-1746363600-1746374400@montelle.com
SUMMARY:♫ Bedlam Brothers
DESCRIPTION:Live music with the Bedlam Brothers on the patio from 1-4pm
URL:https://montelle.com/live-entertainment/%e2%99%ab-bedlam-brothers-2/
LOCATION:Montelle Winery
ATTACH;FMTTYPE=image/png:https://montelle.com/wp-content/uploads/2025/04/Bedlam-Brothers.3.png
END:VEVENT
BEGIN:VEVENT
DTSTART;TZID=America/Chicago:20250510T130000
DTEND;TZID=America/Chicago:20250510T160000
DTSTAMP:20260422T114814
CREATED:20250411T002221Z
LAST-MODIFIED:20250411T002221Z
UID:500-1746882000-1746892800@montelle.com
SUMMARY:♫ Bedlam Brothers
DESCRIPTION:Live Music with the Bedlam Brothers on the patio from 1pm-4pm.
URL:https://montelle.com/live-entertainment/%e2%99%ab-bedlam-brothers/
LOCATION:Montelle Winery
ATTACH;FMTTYPE=image/png:https://montelle.com/wp-content/uploads/2025/04/Bedlam-Brothers.3.png
END:VEVENT
BEGIN:VEVENT
DTSTART;TZID=America/Chicago:20250511T103000
DTEND;TZID=America/Chicago:20250511T140000
DTSTAMP:20260422T114814
CREATED:20250411T001551Z
LAST-MODIFIED:20250424T161113Z
UID:497-1746959400-1746972000@montelle.com
SUMMARY:Mother's Day Brunch
DESCRIPTION:Brunch in Augusta Wine Country! Our culinary team is curating a special brunch menu for mom and her favorite people. Featuring a few breakfast basic must-haves along with some in-house specialties that pair perfectly with our award-winning wines and mimosas. \nMenu: Biscuits & Gravy | Bacon | Sausage | Carved Ham | Pasta Salad | Party Potatoes | Mac & Cheese | Green Beans | \nScrambled Eggs | French Toast Casserole | Salad | Assorted Cereal | Muffins | Donuts | Milk | Orange Juice  | Coffee \nFirst Mimosa is complimentary for Mom! \nVenture out to the patio after Brunch for live music with Fanfare from 1pm-4pm.
URL:https://montelle.com/live-entertainment/mothers-day-brunch-2/
LOCATION:Montelle Winery
ATTACH;FMTTYPE=image/png:https://montelle.com/wp-content/uploads/2025/04/IMG_0114.png
END:VEVENT
BEGIN:VEVENT
DTSTART;TZID=America/Chicago:20250511T130000
DTEND;TZID=America/Chicago:20250511T160000
DTSTAMP:20260422T114814
CREATED:20250411T002316Z
LAST-MODIFIED:20250411T002316Z
UID:503-1746968400-1746979200@montelle.com
SUMMARY:♫ Fanfare
DESCRIPTION:Live Music with Fanfare from 1pm-4pm.
URL:https://montelle.com/live-entertainment/%e2%99%ab-fanfare-7/
LOCATION:Montelle Winery
ATTACH;FMTTYPE=image/jpeg:https://montelle.com/wp-content/uploads/2024/04/Fanfare-II.jpg
END:VEVENT
BEGIN:VEVENT
DTSTART;TZID=America/Chicago:20250517T130000
DTEND;TZID=America/Chicago:20250517T160000
DTSTAMP:20260422T114814
CREATED:20250411T002403Z
LAST-MODIFIED:20250411T002403Z
UID:504-1747486800-1747497600@montelle.com
SUMMARY:♫ Scott & Karl
DESCRIPTION:Live Music with Scott & Karl from 1pm-4pm.
URL:https://montelle.com/live-entertainment/%e2%99%ab-scott-karl-9/
LOCATION:Montelle Winery
ATTACH;FMTTYPE=image/jpeg:https://montelle.com/wp-content/uploads/2024/04/scott-and-Karl-2023.jpg
END:VEVENT
BEGIN:VEVENT
DTSTART;TZID=America/Chicago:20250518T130000
DTEND;TZID=America/Chicago:20250518T160000
DTSTAMP:20260422T114814
CREATED:20250411T002443Z
LAST-MODIFIED:20250411T002443Z
UID:505-1747573200-1747584000@montelle.com
SUMMARY:♫ David Green Group
DESCRIPTION:Live Music with David Green from 1pm-4pm.
URL:https://montelle.com/live-entertainment/%e2%99%ab-david-green-group-2/
LOCATION:Montelle Winery
ATTACH;FMTTYPE=image/jpeg:https://montelle.com/wp-content/uploads/2024/04/David-Green-duo.jpg
END:VEVENT
BEGIN:VEVENT
DTSTART;TZID=America/Chicago:20250524T130000
DTEND;TZID=America/Chicago:20250524T160000
DTSTAMP:20260422T114814
CREATED:20250411T002523Z
LAST-MODIFIED:20250411T002523Z
UID:506-1748091600-1748102400@montelle.com
SUMMARY:♫ Arvell & Company
DESCRIPTION:Live Music with Arvell & Co. from 1pm-4pm.
URL:https://montelle.com/live-entertainment/%e2%99%ab-arvell-company-2/
LOCATION:Montelle Winery
ATTACH;FMTTYPE=image/jpeg:https://montelle.com/wp-content/uploads/2025/03/Arvell.jpg
END:VEVENT
BEGIN:VEVENT
DTSTART;TZID=America/Chicago:20250525T130000
DTEND;TZID=America/Chicago:20250525T160000
DTSTAMP:20260422T114814
CREATED:20250411T002602Z
LAST-MODIFIED:20250411T002602Z
UID:507-1748178000-1748188800@montelle.com
SUMMARY:♫ Anita Rosamond
DESCRIPTION:Live Music with Anita Rosamond from 1pm-4pm.
URL:https://montelle.com/live-entertainment/%e2%99%ab-anita-rosamond-8/
LOCATION:Montelle Winery
ATTACH;FMTTYPE=image/jpeg:https://montelle.com/wp-content/uploads/2024/04/anita-roasmond.jpg
END:VEVENT
BEGIN:VEVENT
DTSTART;TZID=America/Chicago:20250526T130000
DTEND;TZID=America/Chicago:20250526T160000
DTSTAMP:20260422T114814
CREATED:20250411T002749Z
LAST-MODIFIED:20250522T193835Z
UID:508-1748264400-1748275200@montelle.com
SUMMARY:♫ 3PB Trio
DESCRIPTION:Live Music for Memorial Monday with 3PB from 1pm-4pm.
URL:https://montelle.com/live-entertainment/%e2%99%ab-3pb-9/
LOCATION:Montelle Winery
ATTACH;FMTTYPE=image/jpeg:https://montelle.com/wp-content/uploads/2025/04/3PB.jpg
END:VEVENT
BEGIN:VEVENT
DTSTART;TZID=America/Chicago:20250531T130000
DTEND;TZID=America/Chicago:20250531T160000
DTSTAMP:20260422T114814
CREATED:20250424T154154Z
LAST-MODIFIED:20250522T193851Z
UID:514-1748696400-1748707200@montelle.com
SUMMARY:♫ 3PB Trio
DESCRIPTION:Live Music with 3PB on the patio from 1pm-4pm.
URL:https://montelle.com/live-entertainment/%e2%99%ab-3pb-10/
LOCATION:Montelle Winery
ATTACH;FMTTYPE=image/jpeg:https://montelle.com/wp-content/uploads/2025/04/3PB.jpg
END:VEVENT
END:VCALENDAR