BEGIN:VCALENDAR
VERSION:2.0
PRODID:-//Montelle Winery | Augusta&#039;s Most Scenic Winery | Augusta, MO - ECPv6.15.20//NONSGML v1.0//EN
CALSCALE:GREGORIAN
METHOD:PUBLISH
X-WR-CALNAME:Montelle Winery | Augusta&#039;s Most Scenic Winery | Augusta, MO
X-ORIGINAL-URL:https://montelle.com
X-WR-CALDESC:Events for Montelle Winery | Augusta&#039;s Most Scenic Winery | Augusta, MO
REFRESH-INTERVAL;VALUE=DURATION:PT1H
X-Robots-Tag:noindex
X-PUBLISHED-TTL:PT1H
BEGIN:VTIMEZONE
TZID:America/Chicago
BEGIN:DAYLIGHT
TZOFFSETFROM:-0600
TZOFFSETTO:-0500
TZNAME:CDT
DTSTART:20250309T080000
END:DAYLIGHT
BEGIN:STANDARD
TZOFFSETFROM:-0500
TZOFFSETTO:-0600
TZNAME:CST
DTSTART:20251102T070000
END:STANDARD
BEGIN:DAYLIGHT
TZOFFSETFROM:-0600
TZOFFSETTO:-0500
TZNAME:CDT
DTSTART:20260308T080000
END:DAYLIGHT
BEGIN:STANDARD
TZOFFSETFROM:-0500
TZOFFSETTO:-0600
TZNAME:CST
DTSTART:20261101T070000
END:STANDARD
BEGIN:DAYLIGHT
TZOFFSETFROM:-0600
TZOFFSETTO:-0500
TZNAME:CDT
DTSTART:20270314T080000
END:DAYLIGHT
BEGIN:STANDARD
TZOFFSETFROM:-0500
TZOFFSETTO:-0600
TZNAME:CST
DTSTART:20271107T070000
END:STANDARD
END:VTIMEZONE
BEGIN:VEVENT
DTSTART;TZID=America/Chicago:20260425T130000
DTEND;TZID=America/Chicago:20260425T160000
DTSTAMP:20260425T064536
CREATED:20260311T172130Z
LAST-MODIFIED:20260311T172130Z
UID:881-1777122000-1777132800@montelle.com
SUMMARY:Live Music: Scott & Liz
DESCRIPTION: Live Music at Montelle Winery \n\nJoin us Saturday\, April 25th from 1–4 PM for live music from Scott & Liz. This talented duo brings great harmonies\, fun energy\, and a mix of familiar favorites that are perfect for a relaxing afternoon at the winery.\nGrab a glass of wine\, take in the view\, and enjoy live music on the hill at Montelle. 
URL:https://montelle.com/live-entertainment/live-music-scott-liz/
LOCATION:Montelle Winery
ATTACH;FMTTYPE=image/png:https://montelle.com/wp-content/uploads/2026/03/possible-montelle-music-headers-9.png
END:VEVENT
END:VCALENDAR