BEGIN:VCALENDAR
VERSION:2.0
PRODID:-//Montelle Winery | Augusta&#039;s Most Scenic Winery | Augusta, MO - ECPv6.15.20//NONSGML v1.0//EN
CALSCALE:GREGORIAN
METHOD:PUBLISH
X-WR-CALNAME:Montelle Winery | Augusta&#039;s Most Scenic Winery | Augusta, MO
X-ORIGINAL-URL:https://montelle.com
X-WR-CALDESC:Events for Montelle Winery | Augusta&#039;s Most Scenic Winery | Augusta, MO
REFRESH-INTERVAL;VALUE=DURATION:PT1H
X-Robots-Tag:noindex
X-PUBLISHED-TTL:PT1H
BEGIN:VTIMEZONE
TZID:America/Chicago
BEGIN:DAYLIGHT
TZOFFSETFROM:-0600
TZOFFSETTO:-0500
TZNAME:CDT
DTSTART:20240310T080000
END:DAYLIGHT
BEGIN:STANDARD
TZOFFSETFROM:-0500
TZOFFSETTO:-0600
TZNAME:CST
DTSTART:20241103T070000
END:STANDARD
BEGIN:DAYLIGHT
TZOFFSETFROM:-0600
TZOFFSETTO:-0500
TZNAME:CDT
DTSTART:20250309T080000
END:DAYLIGHT
BEGIN:STANDARD
TZOFFSETFROM:-0500
TZOFFSETTO:-0600
TZNAME:CST
DTSTART:20251102T070000
END:STANDARD
BEGIN:DAYLIGHT
TZOFFSETFROM:-0600
TZOFFSETTO:-0500
TZNAME:CDT
DTSTART:20260308T080000
END:DAYLIGHT
BEGIN:STANDARD
TZOFFSETFROM:-0500
TZOFFSETTO:-0600
TZNAME:CST
DTSTART:20261101T070000
END:STANDARD
END:VTIMEZONE
BEGIN:VEVENT
DTSTART;TZID=America/Chicago:20250816T110000
DTEND;TZID=America/Chicago:20250831T170000
DTSTAMP:20260422T120107
CREATED:20250804T152402Z
LAST-MODIFIED:20250804T152402Z
UID:627-1755342000-1756659600@montelle.com
SUMMARY:Teacher Appreciation Weeks - all winery locations
DESCRIPTION:📚✏️ Teachers\, we’ve got something special coming your way! 🍷💛 \nMark your calendars for August 16–31—our Teacher Appreciation Weeks are almost here\, and we can’t wait to say THANK YOU with a little something just for you! 🥂 \nGet 10% off at any of the 4 Augusta winery locations when you show your school ID!
URL:https://montelle.com/live-entertainment/teacher-appreciation-weeks-all-winery-locations/
LOCATION:Montelle Winery
ATTACH;FMTTYPE=image/png:https://montelle.com/wp-content/uploads/2025/08/Copy-of-Teacher-Appreciation-2025-v.2-Facebook-Post.png
END:VEVENT
END:VCALENDAR